BEGIN:VCALENDAR
VERSION:2.0
PRODID:-//The Brew OKC - ECPv5.16.2.1//NONSGML v1.0//EN
CALSCALE:GREGORIAN
METHOD:PUBLISH
X-WR-CALNAME:The Brew OKC
X-ORIGINAL-URL:https://brewokc.com
X-WR-CALDESC:Events for The Brew OKC
REFRESH-INTERVAL;VALUE=DURATION:PT1H
X-Robots-Tag:noindex
X-PUBLISHED-TTL:PT1H
BEGIN:VTIMEZONE
TZID:America/New_York
BEGIN:DAYLIGHT
TZOFFSETFROM:-0500
TZOFFSETTO:-0400
TZNAME:EDT
DTSTART:20220313T070000
END:DAYLIGHT
BEGIN:STANDARD
TZOFFSETFROM:-0400
TZOFFSETTO:-0500
TZNAME:EST
DTSTART:20221106T060000
END:STANDARD
END:VTIMEZONE
BEGIN:VEVENT
DTSTART;TZID=America/New_York:20220217T173000
DTEND;TZID=America/New_York:20220217T193000
DTSTAMP:20260423T072205
CREATED:20220209T005259Z
LAST-MODIFIED:20220211T164445Z
UID:2824-1645119000-1645126200@brewokc.com
SUMMARY:OKC Happy Hour
DESCRIPTION:I hope you’re ready for great beer\, or wine\, fantastic conversations and an overall amazing time of networking. Come join us at Frenzy brewing co.
URL:https://brewokc.com/event/okc-happy-hour/
LOCATION:Frenzy Brewing Company\, 15 S. Broadway\, Edmond\, OK\, 73034\, United States
ATTACH;FMTTYPE=image/jpeg:https://brewokc.com/wp-content/uploads/2022/02/Frenzyhh.jpg
END:VEVENT
END:VCALENDAR